Workbook

Sheet Instruções iniciais
B1: Etapas - Plano de Engajamento de Stakeholders
B4: 1 | C4: Antes de elaborar o seu Plano de Engajamento, identifique e analise suas partes interessadas (planilha - Mapeamento e Análise).
B6: 2 | C6: Identifique os stakeholders prioritários e adicione-os na planilha "Plano de Engajamento".
B7: 3 | C7: Defina/organize as estratégias de comunicação que serão direcionadas a cada um dos stakeholders, considerando:
D8: Características do seu público
D9: Cargo/função do stakeholder
D10: Áreas de interesse/influência do stakeholder
D11: Prioridade de comunicação com o stakeholder
D12: Canal de comunicação a ser empregado nas interações (comunicação face a face, email, SMS, aplicativo de mensagens, reuniões, boletins informativos, etc.)
D13: Frequência das interações (semanal, quinzenal, mensal, bimestral, etc.). Isso pode variar de acordo com o grau de prioridade do stakeholder.
D14: Breve descritivo dos objetivos pretendidos com a comunicação
B16: 4 | C16: Treine o time envolvido na execução do plano e inicie as atividades
B18: 5 | C18: Monitore o seu progresso
B20: 6 | C20: Defina uma frequência para avaliação dos resultados do Plano
B22: 7 | C22: Se precisar de ajuda, entre em contato com a SocialX: socialx@socialx.eco.br ou whatsapp (31) 98761-3138

Sheet Sumário
A1: FICHA TÉCNICA
B8: Companhia
B10: Projeto
B12: Localização
B14: Estágio atual do projeto
B16: Data
B18: Gestor responsável

Sheet Mapeamento e Análise
A1: Ficou com dúvidas? Chame no nosso whatsapp (31) 98761-3138 ou mande um email para socialx@socialx.eco.br. | D1: MAPEAMENTO E ANÁLISE DE STAKEHOLDERS
A2: IDENTIFICAÇÃO DOS STAKEHOLDERS | G2: ANÁLISE DE POSICIONAMENTO | L2: ANÁLISE DE PODER/INFLUÊNCIA | U2: GRAU DE PRIORIZAÇÃO
G4: O stakeholder apresenta críticas ao projeto ou à companhia? | H4: O stakeholder alguma vez atuou de forma contrária ao projeto? | I4: O stakeholder elogiou o projeto ou expressou apoio público em reuniões, redes sociais ou mídia? | J4: Qual o posicionamento apresentado pelo stakeholder em relação ao projeto? | K4: Score | L4: O stakeholder exerce cargo no poder público local? | M4: O stakeholder possui poder decisório sobre o licenciamento de empreendimentos? | N4: O stakeholder é uma liderança ou figura pública notadamente reconhecida pela comunidade local? | O4: O stakeholder possui capacidade de mobilizar a comunidade local em relação a algum assunto específico? | P4: O stakeholder possui capacidade de se comunicar com um grande número de pessoas? (Digital influencer, jornalista, radialista, comunicador, blogueiro, etc.) | Q4: O stakeholder participa ativamente de algum movimento social ou ambiental (defesa de minorias ou do meio ambiente)? | R4: O stakeholder é acadêmico, (professor, aluno, pesquisador, membro de grupo de trabalho/pesquisa) e se engaja com assuntos de interesse comunitário? | S4: O stakeholder possui relações com autoridades locais, estaduais ou federais que possam impactar o projeto? | T4: Score
A5: CÓDIGO | B5: NOME | C5: CARGO/FUNÇÃO | D5: INSTITUIÇÃO | E5: MUNICÍPIO | F5: CLASSIFICAÇÃO - PÚBLICO | U5: STAKEHOLDER | V5: POSICIONAMENTO | W5: PODER/INFLUÊNCIA | X5: PRIORIDADE DO STAKEHOLDER
A6: 1 | K6: =MIN(4, IF(G6="Sim",1,IF(G6="Talvez",0.5,IF(G6="Não",0))) + IF(H6="Sim",1,IF(H6="Talvez",0.5,IF(H6="Não",0))) + IF(I6="Sim",0,IF(I6="Talvez",0.5,IF(I6="Não",1))) + IF(J6="Negativo",2,IF(J6="Neutro",0.5,IF(J6="Positivo",0))) ) -> 0 | T6: =MIN(6, IF(L6="Sim",2,IF(L6="Não",0,0)) + IF(M6="Sim",4,IF(M6="Talvez",1,IF(M6="Não",0,0))) + IF(N6="Sim",1,IF(N6="Talvez",0.5,IF(N6="Não",0,0))) + IF(O6="Sim",1,IF(O6="Talvez",0.5,IF(O6="Não",0,0))) + IF(P6="Sim",1,IF(P6="Talvez",0.5,IF(P6="Não",0,0))) + IF(Q6="Sim",1,IF(Q6="Talvez",0.5,IF(Q6="Não",0,0))) + IF(R6="Sim",1,IF(R6="Talvez",0.5,IF(R6="Não",0,0))) + IF(S6="Sim",1,IF(S6="Talvez",0.5,IF(S6="Não",0,0)))) -> 0 | U6: =B6 -> 0 | V6: =J6 -> 0 | W6: =IF(T6<1.5,"Baixa",IF(T6<3.5,"Média",IF(T6>3.5,"Alta",""))) -> Baixa | X6: =IF(AND(V6="Negativo", W6="Alta"), "Alta", IF(AND(V6="Positivo", W6="Alta"), "Média", IF(AND(V6="Neutro", W6="Alta"), "Alta", IF(AND(V6="Negativo", W6="Média"), "Alta", IF(AND(V6="Positivo", W6="Média"), "Média", IF(AND(V6="Neutro", W6="Média"), "Média", IF(AND(V6="Negativo", W6="Baixa"), "Média", IF(AND(V6="Neutro", W6="Baixa"), "Baixa", IF(AND(V6="Positivo", W6="Baixa"), "Baixa", ""))))))))) | AA6: Poder público municipal - executivo
A7: 2 | K7: =MIN(4, IF(G7="Sim",1,IF(G7="Talvez",0.5,IF(G7="Não",0))) + IF(H7="Sim",1,IF(H7="Talvez",0.5,IF(H7="Não",0))) + IF(I7="Sim",0,IF(I7="Talvez",0.5,IF(I7="Não",1))) + IF(J7="Negativo",2,IF(J7="Neutro",0.5,IF(J7="Positivo",0))) ) -> 0 | T7: =MIN(6, IF(L7="Sim",2,IF(L7="Não",0,0)) + IF(M7="Sim",4,IF(M7="Talvez",1,IF(M7="Não",0,0))) + IF(N7="Sim",1,IF(N7="Talvez",0.5,IF(N7="Não",0,0))) + IF(O7="Sim",1,IF(O7="Talvez",0.5,IF(O7="Não",0,0))) + IF(P7="Sim",1,IF(P7="Talvez",0.5,IF(P7="Não",0,0))) + IF(Q7="Sim",1,IF(Q7="Talvez",0.5,IF(Q7="Não",0,0))) + IF(R7="Sim",1,IF(R7="Talvez",0.5,IF(R7="Não",0,0))) + IF(S7="Sim",1,IF(S7="Talvez",0.5,IF(S7="Não",0,0)))) -> 0 | U7: =B7 -> 0 | V7: =J7 -> 0 | W7: =IF(T7<1.5,"Baixa",IF(T7<3.5,"Média",IF(T7>3.5,"Alta",""))) -> Baixa | X7: =IF(AND(V7="Negativo", W7="Alta"), "Alta", IF(AND(V7="Positivo", W7="Alta"), "Média", IF(AND(V7="Neutro", W7="Alta"), "Alta", IF(AND(V7="Negativo", W7="Média"), "Alta", IF(AND(V7="Positivo", W7="Média"), "Média", IF(AND(V7="Neutro", W7="Média"), "Média", IF(AND(V7="Negativo", W7="Baixa"), "Média", IF(AND(V7="Neutro", W7="Baixa"), "Baixa", IF(AND(V7="Positivo", W7="Baixa"), "Baixa", ""))))))))) | AA7: Poder público municipal - legislativo
A8: 3 | K8: =MIN(4, IF(G8="Sim",1,IF(G8="Talvez",0.5,IF(G8="Não",0))) + IF(H8="Sim",1,IF(H8="Talvez",0.5,IF(H8="Não",0))) + IF(I8="Sim",0,IF(I8="Talvez",0.5,IF(I8="Não",1))) + IF(J8="Negativo",2,IF(J8="Neutro",0.5,IF(J8="Positivo",0))) ) -> 0 | T8: =MIN(6, IF(L8="Sim",2,IF(L8="Não",0,0)) + IF(M8="Sim",4,IF(M8="Talvez",1,IF(M8="Não",0,0))) + IF(N8="Sim",1,IF(N8="Talvez",0.5,IF(N8="Não",0,0))) + IF(O8="Sim",1,IF(O8="Talvez",0.5,IF(O8="Não",0,0))) + IF(P8="Sim",1,IF(P8="Talvez",0.5,IF(P8="Não",0,0))) + IF(Q8="Sim",1,IF(Q8="Talvez",0.5,IF(Q8="Não",0,0))) + IF(R8="Sim",1,IF(R8="Talvez",0.5,IF(R8="Não",0,0))) + IF(S8="Sim",1,IF(S8="Talvez",0.5,IF(S8="Não",0,0)))) -> 0 | U8: =B8 -> 0 | V8: =J8 -> 0 | W8: =IF(T8<1.5,"Baixa",IF(T8<3.5,"Média",IF(T8>3.5,"Alta",""))) -> Baixa | X8: =IF(AND(V8="Negativo", W8="Alta"), "Alta", IF(AND(V8="Positivo", W8="Alta"), "Média", IF(AND(V8="Neutro", W8="Alta"), "Alta", IF(AND(V8="Negativo", W8="Média"), "Alta", IF(AND(V8="Positivo", W8="Média"), "Média", IF(AND(V8="Neutro", W8="Média"), "Média", IF(AND(V8="Negativo", W8="Baixa"), "Média", IF(AND(V8="Neutro", W8="Baixa"), "Baixa", IF(AND(V8="Positivo", W8="Baixa"), "Baixa", ""))))))))) | AA8: Proprietário/superficiário
A9: 4 | K9: =MIN(4, IF(G9="Sim",1,IF(G9="Talvez",0.5,IF(G9="Não",0))) + IF(H9="Sim",1,IF(H9="Talvez",0.5,IF(H9="Não",0))) + IF(I9="Sim",0,IF(I9="Talvez",0.5,IF(I9="Não",1))) + IF(J9="Negativo",2,IF(J9="Neutro",0.5,IF(J9="Positivo",0))) ) -> 0 | T9: =MIN(6, IF(L9="Sim",2,IF(L9="Não",0,0)) + IF(M9="Sim",4,IF(M9="Talvez",1,IF(M9="Não",0,0))) + IF(N9="Sim",1,IF(N9="Talvez",0.5,IF(N9="Não",0,0))) + IF(O9="Sim",1,IF(O9="Talvez",0.5,IF(O9="Não",0,0))) + IF(P9="Sim",1,IF(P9="Talvez",0.5,IF(P9="Não",0,0))) + IF(Q9="Sim",1,IF(Q9="Talvez",0.5,IF(Q9="Não",0,0))) + IF(R9="Sim",1,IF(R9="Talvez",0.5,IF(R9="Não",0,0))) + IF(S9="Sim",1,IF(S9="Talvez",0.5,IF(S9="Não",0,0)))) -> 0 | U9: =B9 -> 0 | V9: =J9 -> 0 | W9: =IF(T9<1.5,"Baixa",IF(T9<3.5,"Média",IF(T9>3.5,"Alta",""))) -> Baixa | X9: =IF(AND(V9="Negativo", W9="Alta"), "Alta", IF(AND(V9="Positivo", W9="Alta"), "Média", IF(AND(V9="Neutro", W9="Alta"), "Alta", IF(AND(V9="Negativo", W9="Média"), "Alta", IF(AND(V9="Positivo", W9="Média"), "Média", IF(AND(V9="Neutro", W9="Média"), "Média", IF(AND(V9="Negativo", W9="Baixa"), "Média", IF(AND(V9="Neutro", W9="Baixa"), "Baixa", IF(AND(V9="Positivo", W9="Baixa"), "Baixa", ""))))))))) | AA9: Autarquia estadual/federal
A10: 5 | K10: =MIN(4, IF(G10="Sim",1,IF(G10="Talvez",0.5,IF(G10="Não",0))) + IF(H10="Sim",1,IF(H10="Talvez",0.5,IF(H10="Não",0))) + IF(I10="Sim",0,IF(I10="Talvez",0.5,IF(I10="Não",1))) + IF(J10="Negativo",2,IF(J10="Neutro",0.5,IF(J10="Positivo",0))) ) -> 0 | T10: =MIN(6, IF(L10="Sim",2,IF(L10="Não",0,0)) + IF(M10="Sim",4,IF(M10="Talvez",1,IF(M10="Não",0,0))) + IF(N10="Sim",1,IF(N10="Talvez",0.5,IF(N10="Não",0,0))) + IF(O10="Sim",1,IF(O10="Talvez",0.5,IF(O10="Não",0,0))) + IF(P10="Sim",1,IF(P10="Talvez",0.5,IF(P10="Não",0,0))) + IF(Q10="Sim",1,IF(Q10="Talvez",0.5,IF(Q10="Não",0,0))) + IF(R10="Sim",1,IF(R10="Talvez",0.5,IF(R10="Não",0,0))) + IF(S10="Sim",1,IF(S10="Talvez",0.5,IF(S10="Não",0,0)))) -> 0 | U10: =B10 -> 0 | V10: =J10 -> 0 | W10: =IF(T10<1.5,"Baixa",IF(T10<3.5,"Média",IF(T10>3.5,"Alta",""))) -> Baixa | X10: =IF(AND(V10="Negativo", W10="Alta"), "Alta", IF(AND(V10="Positivo", W10="Alta"), "Média", IF(AND(V10="Neutro", W10="Alta"), "Alta", IF(AND(V10="Negativo", W10="Média"), "Alta", IF(AND(V10="Positivo", W10="Média"), "Média", IF(AND(V10="Neutro", W10="Média"), "Média", IF(AND(V10="Negativo", W10="Baixa"), "Média", IF(AND(V10="Neutro", W10="Baixa"), "Baixa", IF(AND(V10="Positivo", W10="Baixa"), "Baixa", ""))))))))) | AA10: Poder público estadual
A11: 6 | K11: =MIN(4, IF(G11="Sim",1,IF(G11="Talvez",0.5,IF(G11="Não",0))) + IF(H11="Sim",1,IF(H11="Talvez",0.5,IF(H11="Não",0))) + IF(I11="Sim",0,IF(I11="Talvez",0.5,IF(I11="Não",1))) + IF(J11="Negativo",2,IF(J11="Neutro",0.5,IF(J11="Positivo",0))) ) -> 0 | T11: =MIN(6, IF(L11="Sim",2,IF(L11="Não",0,0)) + IF(M11="Sim",4,IF(M11="Talvez",1,IF(M11="Não",0,0))) + IF(N11="Sim",1,IF(N11="Talvez",0.5,IF(N11="Não",0,0))) + IF(O11="Sim",1,IF(O11="Talvez",0.5,IF(O11="Não",0,0))) + IF(P11="Sim",1,IF(P11="Talvez",0.5,IF(P11="Não",0,0))) + IF(Q11="Sim",1,IF(Q11="Talvez",0.5,IF(Q11="Não",0,0))) + IF(R11="Sim",1,IF(R11="Talvez",0.5,IF(R11="Não",0,0))) + IF(S11="Sim",1,IF(S11="Talvez",0.5,IF(S11="Não",0,0)))) -> 0 | U11: =B11 -> 0 | V11: =J11 -> 0 | W11: =IF(T11<1.5,"Baixa",IF(T11<3.5,"Média",IF(T11>3.5,"Alta",""))) -> Baixa | X11: =IF(AND(V11="Negativo", W11="Alta"), "Alta", IF(AND(V11="Positivo", W11="Alta"), "Média", IF(AND(V11="Neutro", W11="Alta"), "Alta", IF(AND(V11="Negativo", W11="Média"), "Alta", IF(AND(V11="Positivo", W11="Média"), "Média", IF(AND(V11="Neutro", W11="Média"), "Média", IF(AND(V11="Negativo", W11="Baixa"), "Média", IF(AND(V11="Neutro", W11="Baixa"), "Baixa", IF(AND(V11="Positivo", W11="Baixa"), "Baixa", ""))))))))) | AA11: Poder público federal
A12: 7 | K12: =MIN(4, IF(G12="Sim",1,IF(G12="Talvez",0.5,IF(G12="Não",0))) + IF(H12="Sim",1,IF(H12="Talvez",0.5,IF(H12="Não",0))) + IF(I12="Sim",0,IF(I12="Talvez",0.5,IF(I12="Não",1))) + IF(J12="Negativo",2,IF(J12="Neutro",0.5,IF(J12="Positivo",0))) ) -> 0 | T12: =MIN(6, IF(L12="Sim",2,IF(L12="Não",0,0)) + IF(M12="Sim",4,IF(M12="Talvez",1,IF(M12="Não",0,0))) + IF(N12="Sim",1,IF(N12="Talvez",0.5,IF(N12="Não",0,0))) + IF(O12="Sim",1,IF(O12="Talvez",0.5,IF(O12="Não",0,0))) + IF(P12="Sim",1,IF(P12="Talvez",0.5,IF(P12="Não",0,0))) + IF(Q12="Sim",1,IF(Q12="Talvez",0.5,IF(Q12="Não",0,0))) + IF(R12="Sim",1,IF(R12="Talvez",0.5,IF(R12="Não",0,0))) + IF(S12="Sim",1,IF(S12="Talvez",0.5,IF(S12="Não",0,0)))) -> 0 | U12: =B12 -> 0 | V12: =J12 -> 0 | W12: =IF(T12<1.5,"Baixa",IF(T12<3.5,"Média",IF(T12>3.5,"Alta",""))) -> Baixa | X12: =IF(AND(V12="Negativo", W12="Alta"), "Alta", IF(AND(V12="Positivo", W12="Alta"), "Média", IF(AND(V12="Neutro", W12="Alta"), "Alta", IF(AND(V12="Negativo", W12="Média"), "Alta", IF(AND(V12="Positivo", W12="Média"), "Média", IF(AND(V12="Neutro", W12="Média"), "Média", IF(AND(V12="Negativo", W12="Baixa"), "Média", IF(AND(V12="Neutro", W12="Baixa"), "Baixa", IF(AND(V12="Positivo", W12="Baixa"), "Baixa", ""))))))))) | AA12: Liderança/figura pública de referência
A13: 8 | K13: =MIN(4, IF(G13="Sim",1,IF(G13="Talvez",0.5,IF(G13="Não",0))) + IF(H13="Sim",1,IF(H13="Talvez",0.5,IF(H13="Não",0))) + IF(I13="Sim",0,IF(I13="Talvez",0.5,IF(I13="Não",1))) + IF(J13="Negativo",2,IF(J13="Neutro",0.5,IF(J13="Positivo",0))) ) -> 0 | T13: =MIN(6, IF(L13="Sim",2,IF(L13="Não",0,0)) + IF(M13="Sim",4,IF(M13="Talvez",1,IF(M13="Não",0,0))) + IF(N13="Sim",1,IF(N13="Talvez",0.5,IF(N13="Não",0,0))) + IF(O13="Sim",1,IF(O13="Talvez",0.5,IF(O13="Não",0,0))) + IF(P13="Sim",1,IF(P13="Talvez",0.5,IF(P13="Não",0,0))) + IF(Q13="Sim",1,IF(Q13="Talvez",0.5,IF(Q13="Não",0,0))) + IF(R13="Sim",1,IF(R13="Talvez",0.5,IF(R13="Não",0,0))) + IF(S13="Sim",1,IF(S13="Talvez",0.5,IF(S13="Não",0,0)))) -> 0 | U13: =B13 -> 0 | V13: =J13 -> 0 | W13: =IF(T13<1.5,"Baixa",IF(T13<3.5,"Média",IF(T13>3.5,"Alta",""))) -> Baixa | X13: =IF(AND(V13="Negativo", W13="Alta"), "Alta", IF(AND(V13="Positivo", W13="Alta"), "Média", IF(AND(V13="Neutro", W13="Alta"), "Alta", IF(AND(V13="Negativo", W13="Média"), "Alta", IF(AND(V13="Positivo", W13="Média"), "Média", IF(AND(V13="Neutro", W13="Média"), "Média", IF(AND(V13="Negativo", W13="Baixa"), "Média", IF(AND(V13="Neutro", W13="Baixa"), "Baixa", IF(AND(V13="Positivo", W13="Baixa"), "Baixa", ""))))))))) | AA13: Liderança religiosa
A14: 9 | K14: =MIN(4, IF(G14="Sim",1,IF(G14="Talvez",0.5,IF(G14="Não",0))) + IF(H14="Sim",1,IF(H14="Talvez",0.5,IF(H14="Não",0))) + IF(I14="Sim",0,IF(I14="Talvez",0.5,IF(I14="Não",1))) + IF(J14="Negativo",2,IF(J14="Neutro",0.5,IF(J14="Positivo",0))) ) -> 0 | T14: =MIN(6, IF(L14="Sim",2,IF(L14="Não",0,0)) + IF(M14="Sim",4,IF(M14="Talvez",1,IF(M14="Não",0,0))) + IF(N14="Sim",1,IF(N14="Talvez",0.5,IF(N14="Não",0,0))) + IF(O14="Sim",1,IF(O14="Talvez",0.5,IF(O14="Não",0,0))) + IF(P14="Sim",1,IF(P14="Talvez",0.5,IF(P14="Não",0,0))) + IF(Q14="Sim",1,IF(Q14="Talvez",0.5,IF(Q14="Não",0,0))) + IF(R14="Sim",1,IF(R14="Talvez",0.5,IF(R14="Não",0,0))) + IF(S14="Sim",1,IF(S14="Talvez",0.5,IF(S14="Não",0,0)))) -> 0 | U14: =B14 -> 0 | V14: =J14 -> 0 | W14: =IF(T14<1.5,"Baixa",IF(T14<3.5,"Média",IF(T14>3.5,"Alta",""))) -> Baixa | X14: =IF(AND(V14="Negativo", W14="Alta"), "Alta", IF(AND(V14="Positivo", W14="Alta"), "Média", IF(AND(V14="Neutro", W14="Alta"), "Alta", IF(AND(V14="Negativo", W14="Média"), "Alta", IF(AND(V14="Positivo", W14="Média"), "Média", IF(AND(V14="Neutro", W14="Média"), "Média", IF(AND(V14="Negativo", W14="Baixa"), "Média", IF(AND(V14="Neutro", W14="Baixa"), "Baixa", IF(AND(V14="Positivo", W14="Baixa"), "Baixa", ""))))))))) | AA14: Comunidade
A15: 10 | K15: =MIN(4, IF(G15="Sim",1,IF(G15="Talvez",0.5,IF(G15="Não",0))) + IF(H15="Sim",1,IF(H15="Talvez",0.5,IF(H15="Não",0))) + IF(I15="Sim",0,IF(I15="Talvez",0.5,IF(I15="Não",1))) + IF(J15="Negativo",2,IF(J15="Neutro",0.5,IF(J15="Positivo",0))) ) -> 0 | T15: =MIN(6, IF(L15="Sim",2,IF(L15="Não",0,0)) + IF(M15="Sim",4,IF(M15="Talvez",1,IF(M15="Não",0,0))) + IF(N15="Sim",1,IF(N15="Talvez",0.5,IF(N15="Não",0,0))) + IF(O15="Sim",1,IF(O15="Talvez",0.5,IF(O15="Não",0,0))) + IF(P15="Sim",1,IF(P15="Talvez",0.5,IF(P15="Não",0,0))) + IF(Q15="Sim",1,IF(Q15="Talvez",0.5,IF(Q15="Não",0,0))) + IF(R15="Sim",1,IF(R15="Talvez",0.5,IF(R15="Não",0,0))) + IF(S15="Sim",1,IF(S15="Talvez",0.5,IF(S15="Não",0,0)))) -> 0 | U15: =B15 -> 0 | V15: =J15 -> 0 | W15: =IF(T15<1.5,"Baixa",IF(T15<3.5,"Média",IF(T15>3.5,"Alta",""))) -> Baixa | X15: =IF(AND(V15="Negativo", W15="Alta"), "Alta", IF(AND(V15="Positivo", W15="Alta"), "Média", IF(AND(V15="Neutro", W15="Alta"), "Alta", IF(AND(V15="Negativo", W15="Média"), "Alta", IF(AND(V15="Positivo", W15="Média"), "Média", IF(AND(V15="Neutro", W15="Média"), "Média", IF(AND(V15="Negativo", W15="Baixa"), "Média", IF(AND(V15="Neutro", W15="Baixa"), "Baixa", IF(AND(V15="Positivo", W15="Baixa"), "Baixa", ""))))))))) | AA15: Mídias locais
A16: 11 | K16: =MIN(4, IF(G16="Sim",1,IF(G16="Talvez",0.5,IF(G16="Não",0))) + IF(H16="Sim",1,IF(H16="Talvez",0.5,IF(H16="Não",0))) + IF(I16="Sim",0,IF(I16="Talvez",0.5,IF(I16="Não",1))) + IF(J16="Negativo",2,IF(J16="Neutro",0.5,IF(J16="Positivo",0))) ) -> 0 | T16: =MIN(6, IF(L16="Sim",2,IF(L16="Não",0,0)) + IF(M16="Sim",4,IF(M16="Talvez",1,IF(M16="Não",0,0))) + IF(N16="Sim",1,IF(N16="Talvez",0.5,IF(N16="Não",0,0))) + IF(O16="Sim",1,IF(O16="Talvez",0.5,IF(O16="Não",0,0))) + IF(P16="Sim",1,IF(P16="Talvez",0.5,IF(P16="Não",0,0))) + IF(Q16="Sim",1,IF(Q16="Talvez",0.5,IF(Q16="Não",0,0))) + IF(R16="Sim",1,IF(R16="Talvez",0.5,IF(R16="Não",0,0))) + IF(S16="Sim",1,IF(S16="Talvez",0.5,IF(S16="Não",0,0)))) -> 0 | U16: =B16 -> 0 | V16: =J16 -> 0 | W16: =IF(T16<1.5,"Baixa",IF(T16<3.5,"Média",IF(T16>3.5,"Alta",""))) -> Baixa | X16: =IF(AND(V16="Negativo", W16="Alta"), "Alta", IF(AND(V16="Positivo", W16="Alta"), "Média", IF(AND(V16="Neutro", W16="Alta"), "Alta", IF(AND(V16="Negativo", W16="Média"), "Alta", IF(AND(V16="Positivo", W16="Média"), "Média", IF(AND(V16="Neutro", W16="Média"), "Média", IF(AND(V16="Negativo", W16="Baixa"), "Média", IF(AND(V16="Neutro", W16="Baixa"), "Baixa", IF(AND(V16="Positivo", W16="Baixa"), "Baixa", ""))))))))) | AA16: Instituições representativas, de classe e fomento
A17: 12 | K17: =MIN(4, IF(G17="Sim",1,IF(G17="Talvez",0.5,IF(G17="Não",0))) + IF(H17="Sim",1,IF(H17="Talvez",0.5,IF(H17="Não",0))) + IF(I17="Sim",0,IF(I17="Talvez",0.5,IF(I17="Não",1))) + IF(J17="Negativo",2,IF(J17="Neutro",0.5,IF(J17="Positivo",0))) ) -> 0 | T17: =MIN(6, IF(L17="Sim",2,IF(L17="Não",0,0)) + IF(M17="Sim",4,IF(M17="Talvez",1,IF(M17="Não",0,0))) + IF(N17="Sim",1,IF(N17="Talvez",0.5,IF(N17="Não",0,0))) + IF(O17="Sim",1,IF(O17="Talvez",0.5,IF(O17="Não",0,0))) + IF(P17="Sim",1,IF(P17="Talvez",0.5,IF(P17="Não",0,0))) + IF(Q17="Sim",1,IF(Q17="Talvez",0.5,IF(Q17="Não",0,0))) + IF(R17="Sim",1,IF(R17="Talvez",0.5,IF(R17="Não",0,0))) + IF(S17="Sim",1,IF(S17="Talvez",0.5,IF(S17="Não",0,0)))) -> 0 | U17: =B17 -> 0 | V17: =J17 -> 0 | W17: =IF(T17<1.5,"Baixa",IF(T17<3.5,"Média",IF(T17>3.5,"Alta",""))) -> Baixa | X17: =IF(AND(V17="Negativo", W17="Alta"), "Alta", IF(AND(V17="Positivo", W17="Alta"), "Média", IF(AND(V17="Neutro", W17="Alta"), "Alta", IF(AND(V17="Negativo", W17="Média"), "Alta", IF(AND(V17="Positivo", W17="Média"), "Média", IF(AND(V17="Neutro", W17="Média"), "Média", IF(AND(V17="Negativo", W17="Baixa"), "Média", IF(AND(V17="Neutro", W17="Baixa"), "Baixa", IF(AND(V17="Positivo", W17="Baixa"), "Baixa", ""))))))))) | AA17: Público interno
A18: 13 | K18: =MIN(4, IF(G18="Sim",1,IF(G18="Talvez",0.5,IF(G18="Não",0))) + IF(H18="Sim",1,IF(H18="Talvez",0.5,IF(H18="Não",0))) + IF(I18="Sim",0,IF(I18="Talvez",0.5,IF(I18="Não",1))) + IF(J18="Negativo",2,IF(J18="Neutro",0.5,IF(J18="Positivo",0))) ) -> 0 | T18: =MIN(6, IF(L18="Sim",2,IF(L18="Não",0,0)) + IF(M18="Sim",4,IF(M18="Talvez",1,IF(M18="Não",0,0))) + IF(N18="Sim",1,IF(N18="Talvez",0.5,IF(N18="Não",0,0))) + IF(O18="Sim",1,IF(O18="Talvez",0.5,IF(O18="Não",0,0))) + IF(P18="Sim",1,IF(P18="Talvez",0.5,IF(P18="Não",0,0))) + IF(Q18="Sim",1,IF(Q18="Talvez",0.5,IF(Q18="Não",0,0))) + IF(R18="Sim",1,IF(R18="Talvez",0.5,IF(R18="Não",0,0))) + IF(S18="Sim",1,IF(S18="Talvez",0.5,IF(S18="Não",0,0)))) -> 0 | U18: =B18 -> 0 | V18: =J18 -> 0 | W18: =IF(T18<1.5,"Baixa",IF(T18<3.5,"Média",IF(T18>3.5,"Alta",""))) -> Baixa | X18: =IF(AND(V18="Negativo", W18="Alta"), "Alta", IF(AND(V18="Positivo", W18="Alta"), "Média", IF(AND(V18="Neutro", W18="Alta"), "Alta", IF(AND(V18="Negativo", W18="Média"), "Alta", IF(AND(V18="Positivo", W18="Média"), "Média", IF(AND(V18="Neutro", W18="Média"), "Média", IF(AND(V18="Negativo", W18="Baixa"), "Média", IF(AND(V18="Neutro", W18="Baixa"), "Baixa", IF(AND(V18="Positivo", W18="Baixa"), "Baixa", "")))))))))
A19: 14 | K19: =MIN(4, IF(G19="Sim",1,IF(G19="Talvez",0.5,IF(G19="Não",0))) + IF(H19="Sim",1,IF(H19="Talvez",0.5,IF(H19="Não",0))) + IF(I19="Sim",0,IF(I19="Talvez",0.5,IF(I19="Não",1))) + IF(J19="Negativo",2,IF(J19="Neutro",0.5,IF(J19="Positivo",0))) ) -> 0 | T19: =MIN(6, IF(L19="Sim",2,IF(L19="Não",0,0)) + IF(M19="Sim",4,IF(M19="Talvez",1,IF(M19="Não",0,0))) + IF(N19="Sim",1,IF(N19="Talvez",0.5,IF(N19="Não",0,0))) + IF(O19="Sim",1,IF(O19="Talvez",0.5,IF(O19="Não",0,0))) + IF(P19="Sim",1,IF(P19="Talvez",0.5,IF(P19="Não",0,0))) + IF(Q19="Sim",1,IF(Q19="Talvez",0.5,IF(Q19="Não",0,0))) + IF(R19="Sim",1,IF(R19="Talvez",0.5,IF(R19="Não",0,0))) + IF(S19="Sim",1,IF(S19="Talvez",0.5,IF(S19="Não",0,0)))) -> 0 | U19: =B19 -> 0 | V19: =J19 -> 0 | W19: =IF(T19<1.5,"Baixa",IF(T19<3.5,"Média",IF(T19>3.5,"Alta",""))) -> Baixa | X19: =IF(AND(V19="Negativo", W19="Alta"), "Alta", IF(AND(V19="Positivo", W19="Alta"), "Média", IF(AND(V19="Neutro", W19="Alta"), "Alta", IF(AND(V19="Negativo", W19="Média"), "Alta", IF(AND(V19="Positivo", W19="Média"), "Média", IF(AND(V19="Neutro", W19="Média"), "Média", IF(AND(V19="Negativo", W19="Baixa"), "Média", IF(AND(V19="Neutro", W19="Baixa"), "Baixa", IF(AND(V19="Positivo", W19="Baixa"), "Baixa", "")))))))))
A20: 15 | K20: =MIN(4, IF(G20="Sim",1,IF(G20="Talvez",0.5,IF(G20="Não",0))) + IF(H20="Sim",1,IF(H20="Talvez",0.5,IF(H20="Não",0))) + IF(I20="Sim",0,IF(I20="Talvez",0.5,IF(I20="Não",1))) + IF(J20="Negativo",2,IF(J20="Neutro",0.5,IF(J20="Positivo",0))) ) -> 0 | T20: =MIN(6, IF(L20="Sim",2,IF(L20="Não",0,0)) + IF(M20="Sim",4,IF(M20="Talvez",1,IF(M20="Não",0,0))) + IF(N20="Sim",1,IF(N20="Talvez",0.5,IF(N20="Não",0,0))) + IF(O20="Sim",1,IF(O20="Talvez",0.5,IF(O20="Não",0,0))) + IF(P20="Sim",1,IF(P20="Talvez",0.5,IF(P20="Não",0,0))) + IF(Q20="Sim",1,IF(Q20="Talvez",0.5,IF(Q20="Não",0,0))) + IF(R20="Sim",1,IF(R20="Talvez",0.5,IF(R20="Não",0,0))) + IF(S20="Sim",1,IF(S20="Talvez",0.5,IF(S20="Não",0,0)))) -> 0 | U20: =B20 -> 0 | V20: =J20 -> 0 | W20: =IF(T20<1.5,"Baixa",IF(T20<3.5,"Média",IF(T20>3.5,"Alta",""))) -> Baixa | X20: =IF(AND(V20="Negativo", W20="Alta"), "Alta", IF(AND(V20="Positivo", W20="Alta"), "Média", IF(AND(V20="Neutro", W20="Alta"), "Alta", IF(AND(V20="Negativo", W20="Média"), "Alta", IF(AND(V20="Positivo", W20="Média"), "Média", IF(AND(V20="Neutro", W20="Média"), "Média", IF(AND(V20="Negativo", W20="Baixa"), "Média", IF(AND(V20="Neutro", W20="Baixa"), "Baixa", IF(AND(V20="Positivo", W20="Baixa"), "Baixa", "")))))))))
A21: 16 | K21: =MIN(4, IF(G21="Sim",1,IF(G21="Talvez",0.5,IF(G21="Não",0))) + IF(H21="Sim",1,IF(H21="Talvez",0.5,IF(H21="Não",0))) + IF(I21="Sim",0,IF(I21="Talvez",0.5,IF(I21="Não",1))) + IF(J21="Negativo",2,IF(J21="Neutro",0.5,IF(J21="Positivo",0))) ) -> 0 | T21: =MIN(6, IF(L21="Sim",2,IF(L21="Não",0,0)) + IF(M21="Sim",4,IF(M21="Talvez",1,IF(M21="Não",0,0))) + IF(N21="Sim",1,IF(N21="Talvez",0.5,IF(N21="Não",0,0))) + IF(O21="Sim",1,IF(O21="Talvez",0.5,IF(O21="Não",0,0))) + IF(P21="Sim",1,IF(P21="Talvez",0.5,IF(P21="Não",0,0))) + IF(Q21="Sim",1,IF(Q21="Talvez",0.5,IF(Q21="Não",0,0))) + IF(R21="Sim",1,IF(R21="Talvez",0.5,IF(R21="Não",0,0))) + IF(S21="Sim",1,IF(S21="Talvez",0.5,IF(S21="Não",0,0)))) -> 0 | U21: =B21 -> 0 | V21: =J21 -> 0 | W21: =IF(T21<1.5,"Baixa",IF(T21<3.5,"Média",IF(T21>3.5,"Alta",""))) -> Baixa | X21: =IF(AND(V21="Negativo", W21="Alta"), "Alta", IF(AND(V21="Positivo", W21="Alta"), "Média", IF(AND(V21="Neutro", W21="Alta"), "Alta", IF(AND(V21="Negativo", W21="Média"), "Alta", IF(AND(V21="Positivo", W21="Média"), "Média", IF(AND(V21="Neutro", W21="Média"), "Média", IF(AND(V21="Negativo", W21="Baixa"), "Média", IF(AND(V21="Neutro", W21="Baixa"), "Baixa", IF(AND(V21="Positivo", W21="Baixa"), "Baixa", "")))))))))
A22: 17 | K22: =MIN(4, IF(G22="Sim",1,IF(G22="Talvez",0.5,IF(G22="Não",0))) + IF(H22="Sim",1,IF(H22="Talvez",0.5,IF(H22="Não",0))) + IF(I22="Sim",0,IF(I22="Talvez",0.5,IF(I22="Não",1))) + IF(J22="Negativo",2,IF(J22="Neutro",0.5,IF(J22="Positivo",0))) ) -> 0 | T22: =MIN(6, IF(L22="Sim",2,IF(L22="Não",0,0)) + IF(M22="Sim",4,IF(M22="Talvez",1,IF(M22="Não",0,0))) + IF(N22="Sim",1,IF(N22="Talvez",0.5,IF(N22="Não",0,0))) + IF(O22="Sim",1,IF(O22="Talvez",0.5,IF(O22="Não",0,0))) + IF(P22="Sim",1,IF(P22="Talvez",0.5,IF(P22="Não",0,0))) + IF(Q22="Sim",1,IF(Q22="Talvez",0.5,IF(Q22="Não",0,0))) + IF(R22="Sim",1,IF(R22="Talvez",0.5,IF(R22="Não",0,0))) + IF(S22="Sim",1,IF(S22="Talvez",0.5,IF(S22="Não",0,0)))) -> 0 | U22: =B22 -> 0 | V22: =J22 -> 0 | W22: =IF(T22<1.5,"Baixa",IF(T22<3.5,"Média",IF(T22>3.5,"Alta",""))) -> Baixa | X22: =IF(AND(V22="Negativo", W22="Alta"), "Alta", IF(AND(V22="Positivo", W22="Alta"), "Média", IF(AND(V22="Neutro", W22="Alta"), "Alta", IF(AND(V22="Negativo", W22="Média"), "Alta", IF(AND(V22="Positivo", W22="Média"), "Média", IF(AND(V22="Neutro", W22="Média"), "Média", IF(AND(V22="Negativo", W22="Baixa"), "Média", IF(AND(V22="Neutro", W22="Baixa"), "Baixa", IF(AND(V22="Positivo", W22="Baixa"), "Baixa", "")))))))))
A23: 18 | K23: =MIN(4, IF(G23="Sim",1,IF(G23="Talvez",0.5,IF(G23="Não",0))) + IF(H23="Sim",1,IF(H23="Talvez",0.5,IF(H23="Não",0))) + IF(I23="Sim",0,IF(I23="Talvez",0.5,IF(I23="Não",1))) + IF(J23="Negativo",2,IF(J23="Neutro",0.5,IF(J23="Positivo",0))) ) -> 0 | T23: =MIN(6, IF(L23="Sim",2,IF(L23="Não",0,0)) + IF(M23="Sim",4,IF(M23="Talvez",1,IF(M23="Não",0,0))) + IF(N23="Sim",1,IF(N23="Talvez",0.5,IF(N23="Não",0,0))) + IF(O23="Sim",1,IF(O23="Talvez",0.5,IF(O23="Não",0,0))) + IF(P23="Sim",1,IF(P23="Talvez",0.5,IF(P23="Não",0,0))) + IF(Q23="Sim",1,IF(Q23="Talvez",0.5,IF(Q23="Não",0,0))) + IF(R23="Sim",1,IF(R23="Talvez",0.5,IF(R23="Não",0,0))) + IF(S23="Sim",1,IF(S23="Talvez",0.5,IF(S23="Não",0,0)))) -> 0 | U23: =B23 -> 0 | V23: =J23 -> 0 | W23: =IF(T23<1.5,"Baixa",IF(T23<3.5,"Média",IF(T23>3.5,"Alta",""))) -> Baixa | X23: =IF(AND(V23="Negativo", W23="Alta"), "Alta", IF(AND(V23="Positivo", W23="Alta"), "Média", IF(AND(V23="Neutro", W23="Alta"), "Alta", IF(AND(V23="Negativo", W23="Média"), "Alta", IF(AND(V23="Positivo", W23="Média"), "Média", IF(AND(V23="Neutro", W23="Média"), "Média", IF(AND(V23="Negativo", W23="Baixa"), "Média", IF(AND(V23="Neutro", W23="Baixa"), "Baixa", IF(AND(V23="Positivo", W23="Baixa"), "Baixa", "")))))))))
A24: 19 | K24: =MIN(4, IF(G24="Sim",1,IF(G24="Talvez",0.5,IF(G24="Não",0))) + IF(H24="Sim",1,IF(H24="Talvez",0.5,IF(H24="Não",0))) + IF(I24="Sim",0,IF(I24="Talvez",0.5,IF(I24="Não",1))) + IF(J24="Negativo",2,IF(J24="Neutro",0.5,IF(J24="Positivo",0))) ) -> 0 | T24: =MIN(6, IF(L24="Sim",2,IF(L24="Não",0,0)) + IF(M24="Sim",4,IF(M24="Talvez",1,IF(M24="Não",0,0))) + IF(N24="Sim",1,IF(N24="Talvez",0.5,IF(N24="Não",0,0))) + IF(O24="Sim",1,IF(O24="Talvez",0.5,IF(O24="Não",0,0))) + IF(P24="Sim",1,IF(P24="Talvez",0.5,IF(P24="Não",0,0))) + IF(Q24="Sim",1,IF(Q24="Talvez",0.5,IF(Q24="Não",0,0))) + IF(R24="Sim",1,IF(R24="Talvez",0.5,IF(R24="Não",0,0))) + IF(S24="Sim",1,IF(S24="Talvez",0.5,IF(S24="Não",0,0)))) -> 0 | U24: =B24 -> 0 | V24: =J24 -> 0 | W24: =IF(T24<1.5,"Baixa",IF(T24<3.5,"Média",IF(T24>3.5,"Alta",""))) -> Baixa | X24: =IF(AND(V24="Negativo", W24="Alta"), "Alta", IF(AND(V24="Positivo", W24="Alta"), "Média", IF(AND(V24="Neutro", W24="Alta"), "Alta", IF(AND(V24="Negativo", W24="Média"), "Alta", IF(AND(V24="Positivo", W24="Média"), "Média", IF(AND(V24="Neutro", W24="Média"), "Média", IF(AND(V24="Negativo", W24="Baixa"), "Média", IF(AND(V24="Neutro", W24="Baixa"), "Baixa", IF(AND(V24="Positivo", W24="Baixa"), "Baixa", "")))))))))
A25: 20 | K25: =MIN(4, IF(G25="Sim",1,IF(G25="Talvez",0.5,IF(G25="Não",0))) + IF(H25="Sim",1,IF(H25="Talvez",0.5,IF(H25="Não",0))) + IF(I25="Sim",0,IF(I25="Talvez",0.5,IF(I25="Não",1))) + IF(J25="Negativo",2,IF(J25="Neutro",0.5,IF(J25="Positivo",0))) ) -> 0 | T25: =MIN(6, IF(L25="Sim",2,IF(L25="Não",0,0)) + IF(M25="Sim",4,IF(M25="Talvez",1,IF(M25="Não",0,0))) + IF(N25="Sim",1,IF(N25="Talvez",0.5,IF(N25="Não",0,0))) + IF(O25="Sim",1,IF(O25="Talvez",0.5,IF(O25="Não",0,0))) + IF(P25="Sim",1,IF(P25="Talvez",0.5,IF(P25="Não",0,0))) + IF(Q25="Sim",1,IF(Q25="Talvez",0.5,IF(Q25="Não",0,0))) + IF(R25="Sim",1,IF(R25="Talvez",0.5,IF(R25="Não",0,0))) + IF(S25="Sim",1,IF(S25="Talvez",0.5,IF(S25="Não",0,0)))) -> 0 | U25: =B25 -> 0 | V25: =J25 -> 0 | W25: =IF(T25<1.5,"Baixa",IF(T25<3.5,"Média",IF(T25>3.5,"Alta",""))) -> Baixa | X25: =IF(AND(V25="Negativo", W25="Alta"), "Alta", IF(AND(V25="Positivo", W25="Alta"), "Média", IF(AND(V25="Neutro", W25="Alta"), "Alta", IF(AND(V25="Negativo", W25="Média"), "Alta", IF(AND(V25="Positivo", W25="Média"), "Média", IF(AND(V25="Neutro", W25="Média"), "Média", IF(AND(V25="Negativo", W25="Baixa"), "Média", IF(AND(V25="Neutro", W25="Baixa"), "Baixa", IF(AND(V25="Positivo", W25="Baixa"), "Baixa", "")))))))))
A26: 21 | K26: =MIN(4, IF(G26="Sim",1,IF(G26="Talvez",0.5,IF(G26="Não",0))) + IF(H26="Sim",1,IF(H26="Talvez",0.5,IF(H26="Não",0))) + IF(I26="Sim",0,IF(I26="Talvez",0.5,IF(I26="Não",1))) + IF(J26="Negativo",2,IF(J26="Neutro",0.5,IF(J26="Positivo",0))) ) -> 0 | T26: =MIN(6, IF(L26="Sim",2,IF(L26="Não",0,0)) + IF(M26="Sim",4,IF(M26="Talvez",1,IF(M26="Não",0,0))) + IF(N26="Sim",1,IF(N26="Talvez",0.5,IF(N26="Não",0,0))) + IF(O26="Sim",1,IF(O26="Talvez",0.5,IF(O26="Não",0,0))) + IF(P26="Sim",1,IF(P26="Talvez",0.5,IF(P26="Não",0,0))) + IF(Q26="Sim",1,IF(Q26="Talvez",0.5,IF(Q26="Não",0,0))) + IF(R26="Sim",1,IF(R26="Talvez",0.5,IF(R26="Não",0,0))) + IF(S26="Sim",1,IF(S26="Talvez",0.5,IF(S26="Não",0,0)))) -> 0 | U26: =B26 -> 0 | V26: =J26 -> 0 | W26: =IF(T26<1.5,"Baixa",IF(T26<3.5,"Média",IF(T26>3.5,"Alta",""))) -> Baixa | X26: =IF(AND(V26="Negativo", W26="Alta"), "Alta", IF(AND(V26="Positivo", W26="Alta"), "Média", IF(AND(V26="Neutro", W26="Alta"), "Alta", IF(AND(V26="Negativo", W26="Média"), "Alta", IF(AND(V26="Positivo", W26="Média"), "Média", IF(AND(V26="Neutro", W26="Média"), "Média", IF(AND(V26="Negativo", W26="Baixa"), "Média", IF(AND(V26="Neutro", W26="Baixa"), "Baixa", IF(AND(V26="Positivo", W26="Baixa"), "Baixa", "")))))))))
A27: 22 | K27: =MIN(4, IF(G27="Sim",1,IF(G27="Talvez",0.5,IF(G27="Não",0))) + IF(H27="Sim",1,IF(H27="Talvez",0.5,IF(H27="Não",0))) + IF(I27="Sim",0,IF(I27="Talvez",0.5,IF(I27="Não",1))) + IF(J27="Negativo",2,IF(J27="Neutro",0.5,IF(J27="Positivo",0))) ) -> 0 | T27: =MIN(6, IF(L27="Sim",2,IF(L27="Não",0,0)) + IF(M27="Sim",4,IF(M27="Talvez",1,IF(M27="Não",0,0))) + IF(N27="Sim",1,IF(N27="Talvez",0.5,IF(N27="Não",0,0))) + IF(O27="Sim",1,IF(O27="Talvez",0.5,IF(O27="Não",0,0))) + IF(P27="Sim",1,IF(P27="Talvez",0.5,IF(P27="Não",0,0))) + IF(Q27="Sim",1,IF(Q27="Talvez",0.5,IF(Q27="Não",0,0))) + IF(R27="Sim",1,IF(R27="Talvez",0.5,IF(R27="Não",0,0))) + IF(S27="Sim",1,IF(S27="Talvez",0.5,IF(S27="Não",0,0)))) -> 0 | U27: =B27 -> 0 | V27: =J27 -> 0 | W27: =IF(T27<1.5,"Baixa",IF(T27<3.5,"Média",IF(T27>3.5,"Alta",""))) -> Baixa | X27: =IF(AND(V27="Negativo", W27="Alta"), "Alta", IF(AND(V27="Positivo", W27="Alta"), "Média", IF(AND(V27="Neutro", W27="Alta"), "Alta", IF(AND(V27="Negativo", W27="Média"), "Alta", IF(AND(V27="Positivo", W27="Média"), "Média", IF(AND(V27="Neutro", W27="Média"), "Média", IF(AND(V27="Negativo", W27="Baixa"), "Média", IF(AND(V27="Neutro", W27="Baixa"), "Baixa", IF(AND(V27="Positivo", W27="Baixa"), "Baixa", "")))))))))
A28: 23 | K28: =MIN(4, IF(G28="Sim",1,IF(G28="Talvez",0.5,IF(G28="Não",0))) + IF(H28="Sim",1,IF(H28="Talvez",0.5,IF(H28="Não",0))) + IF(I28="Sim",0,IF(I28="Talvez",0.5,IF(I28="Não",1))) + IF(J28="Negativo",2,IF(J28="Neutro",0.5,IF(J28="Positivo",0))) ) -> 0 | T28: =MIN(6, IF(L28="Sim",2,IF(L28="Não",0,0)) + IF(M28="Sim",4,IF(M28="Talvez",1,IF(M28="Não",0,0))) + IF(N28="Sim",1,IF(N28="Talvez",0.5,IF(N28="Não",0,0))) + IF(O28="Sim",1,IF(O28="Talvez",0.5,IF(O28="Não",0,0))) + IF(P28="Sim",1,IF(P28="Talvez",0.5,IF(P28="Não",0,0))) + IF(Q28="Sim",1,IF(Q28="Talvez",0.5,IF(Q28="Não",0,0))) + IF(R28="Sim",1,IF(R28="Talvez",0.5,IF(R28="Não",0,0))) + IF(S28="Sim",1,IF(S28="Talvez",0.5,IF(S28="Não",0,0)))) -> 0 | U28: =B28 -> 0 | V28: =J28 -> 0 | W28: =IF(T28<1.5,"Baixa",IF(T28<3.5,"Média",IF(T28>3.5,"Alta",""))) -> Baixa | X28: =IF(AND(V28="Negativo", W28="Alta"), "Alta", IF(AND(V28="Positivo", W28="Alta"), "Média", IF(AND(V28="Neutro", W28="Alta"), "Alta", IF(AND(V28="Negativo", W28="Média"), "Alta", IF(AND(V28="Positivo", W28="Média"), "Média", IF(AND(V28="Neutro", W28="Média"), "Média", IF(AND(V28="Negativo", W28="Baixa"), "Média", IF(AND(V28="Neutro", W28="Baixa"), "Baixa", IF(AND(V28="Positivo", W28="Baixa"), "Baixa", "")))))))))
A29: 24 | K29: =MIN(4, IF(G29="Sim",1,IF(G29="Talvez",0.5,IF(G29="Não",0))) + IF(H29="Sim",1,IF(H29="Talvez",0.5,IF(H29="Não",0))) + IF(I29="Sim",0,IF(I29="Talvez",0.5,IF(I29="Não",1))) + IF(J29="Negativo",2,IF(J29="Neutro",0.5,IF(J29="Positivo",0))) ) -> 0 | T29: =MIN(6, IF(L29="Sim",2,IF(L29="Não",0,0)) + IF(M29="Sim",4,IF(M29="Talvez",1,IF(M29="Não",0,0))) + IF(N29="Sim",1,IF(N29="Talvez",0.5,IF(N29="Não",0,0))) + IF(O29="Sim",1,IF(O29="Talvez",0.5,IF(O29="Não",0,0))) + IF(P29="Sim",1,IF(P29="Talvez",0.5,IF(P29="Não",0,0))) + IF(Q29="Sim",1,IF(Q29="Talvez",0.5,IF(Q29="Não",0,0))) + IF(R29="Sim",1,IF(R29="Talvez",0.5,IF(R29="Não",0,0))) + IF(S29="Sim",1,IF(S29="Talvez",0.5,IF(S29="Não",0,0)))) -> 0 | U29: =B29 -> 0 | V29: =J29 -> 0 | W29: =IF(T29<1.5,"Baixa",IF(T29<3.5,"Média",IF(T29>3.5,"Alta",""))) -> Baixa | X29: =IF(AND(V29="Negativo", W29="Alta"), "Alta", IF(AND(V29="Positivo", W29="Alta"), "Média", IF(AND(V29="Neutro", W29="Alta"), "Alta", IF(AND(V29="Negativo", W29="Média"), "Alta", IF(AND(V29="Positivo", W29="Média"), "Média", IF(AND(V29="Neutro", W29="Média"), "Média", IF(AND(V29="Negativo", W29="Baixa"), "Média", IF(AND(V29="Neutro", W29="Baixa"), "Baixa", IF(AND(V29="Positivo", W29="Baixa"), "Baixa", "")))))))))
... A57: 52 | K57: =MIN(4, IF(G57="Sim",1,IF(G57="Talvez",0.5,IF(G57="Não",0))) + IF(H57="Sim",1,IF(H57="Talvez",0.5,IF(H57="Não",0))) + IF(I57="Sim",0,IF(I57="Talvez",0.5,IF(I57="Não",1))) + IF(J57="Negativo",2,IF(J57="Neutro",0.5,IF(J57="Positivo",0))) ) -> 0 | T57: =MIN(6, IF(L57="Sim",2,IF(L57="Não",0,0)) + IF(M57="Sim",4,IF(M57="Talvez",1,IF(M57="Não",0,0))) + IF(N57="Sim",1,IF(N57="Talvez",0.5,IF(N57="Não",0,0))) + IF(O57="Sim",1,IF(O57="Talvez",0.5,IF(O57="Não",0,0))) + IF(P57="Sim",1,IF(P57="Talvez",0.5,IF(P57="Não",0,0))) + IF(Q57="Sim",1,IF(Q57="Talvez",0.5,IF(Q57="Não",0,0))) + IF(R57="Sim",1,IF(R57="Talvez",0.5,IF(R57="Não",0,0))) + IF(S57="Sim",1,IF(S57="Talvez",0.5,IF(S57="Não",0,0)))) -> 0 | U57: =B57 -> 0 | V57: =J57 -> 0 | W57: =IF(T57<1.5,"Baixa",IF(T57<3.5,"Média",IF(T57>3.5,"Alta",""))) -> Baixa | X57: =IF(AND(V57="Negativo", W57="Alta"), "Alta", IF(AND(V57="Positivo", W57="Alta"), "Média", IF(AND(V57="Neutro", W57="Alta"), "Alta", IF(AND(V57="Negativo", W57="Média"), "Alta", IF(AND(V57="Positivo", W57="Média"), "Média", IF(AND(V57="Neutro", W57="Média"), "Média", IF(AND(V57="Negativo", W57="Baixa"), "Média", IF(AND(V57="Neutro", W57="Baixa"), "Baixa", IF(AND(V57="Positivo", W57="Baixa"), "Baixa", "")))))))))

Sheet Análise Priorização
B2: ANÁLISE DE PRIORIZAÇÃO - INTERPRETAÇÃO DO GRÁFICO

Sheet Plano de Engajamento
A1: Ficou com dúvidas? Chame no nosso whatsapp (31) 98761-3138 ou mande um email para socialx@socialx.eco.br. | C1: PLANO DE ENGAJAMENTO DE STAKEHOLDERS
A4: Público | B4: Cargo/função | C4: Nome do stakeholder | D4: Local | E4: Áreas de influência/interesse | F4: Grau de prioridade | G4: Canal de comunicação | H4: Frequência | I4: Objetivos | J4: Responsável pelas interações | K4: Informações e dados adicionais
A5: ='Mapeamento e Análise'!F6 -> 0 | B5: ='Mapeamento e Análise'!C6 -> 0 | C5: ='Mapeamento e Análise'!B6 -> 0 | D5: ='Mapeamento e Análise'!E6 -> 0 | F5: ='Mapeamento e Análise'!X6
A6: ='Mapeamento e Análise'!F7 -> 0 | B6: ='Mapeamento e Análise'!C7 -> 0 | C6: ='Mapeamento e Análise'!B7 -> 0 | D6: ='Mapeamento e Análise'!E7 -> 0 | F6: ='Mapeamento e Análise'!X7
A7: ='Mapeamento e Análise'!F8 -> 0 | B7: ='Mapeamento e Análise'!C8 -> 0 | C7: ='Mapeamento e Análise'!B8 -> 0 | D7: ='Mapeamento e Análise'!E8 -> 0 | F7: ='Mapeamento e Análise'!X8
A8: ='Mapeamento e Análise'!F9 -> 0 | B8: ='Mapeamento e Análise'!C9 -> 0 | C8: ='Mapeamento e Análise'!B9 -> 0 | D8: ='Mapeamento e Análise'!E9 -> 0 | F8: ='Mapeamento e Análise'!X9
A9: ='Mapeamento e Análise'!F10 -> 0 | B9: ='Mapeamento e Análise'!C10 -> 0 | C9: ='Mapeamento e Análise'!B10 -> 0 | D9: ='Mapeamento e Análise'!E10 -> 0 | F9: ='Mapeamento e Análise'!X10
A10: ='Mapeamento e Análise'!F11 -> 0 | B10: ='Mapeamento e Análise'!C11 -> 0 | C10: ='Mapeamento e Análise'!B11 -> 0 | D10: ='Mapeamento e Análise'!E11 -> 0 | F10: ='Mapeamento e Análise'!X11
A11: ='Mapeamento e Análise'!F12 -> 0 | B11: ='Mapeamento e Análise'!C12 -> 0 | C11: ='Mapeamento e Análise'!B12 -> 0 | D11: ='Mapeamento e Análise'!E12 -> 0 | F11: ='Mapeamento e Análise'!X12
A12: ='Mapeamento e Análise'!F13 -> 0 | B12: ='Mapeamento e Análise'!C13 -> 0 | C12: ='Mapeamento e Análise'!B13 -> 0 | D12: ='Mapeamento e Análise'!E13 -> 0 | F12: ='Mapeamento e Análise'!X13
A13: ='Mapeamento e Análise'!F14 -> 0 | B13: ='Mapeamento e Análise'!C14 -> 0 | C13: ='Mapeamento e Análise'!B14 -> 0 | D13: ='Mapeamento e Análise'!E14 -> 0 | F13: ='Mapeamento e Análise'!X14
A14: ='Mapeamento e Análise'!F15 -> 0 | B14: ='Mapeamento e Análise'!C15 -> 0 | C14: ='Mapeamento e Análise'!B15 -> 0 | D14: ='Mapeamento e Análise'!E15 -> 0 | F14: ='Mapeamento e Análise'!X15
A15: ='Mapeamento e Análise'!F16 -> 0 | B15: ='Mapeamento e Análise'!C16 -> 0 | C15: ='Mapeamento e Análise'!B16 -> 0 | D15: ='Mapeamento e Análise'!E16 -> 0 | F15: ='Mapeamento e Análise'!X16
A16: ='Mapeamento e Análise'!F17 -> 0 | B16: ='Mapeamento e Análise'!C17 -> 0 | C16: ='Mapeamento e Análise'!B17 -> 0 | D16: ='Mapeamento e Análise'!E17 -> 0 | F16: ='Mapeamento e Análise'!X17
... A56: ='Mapeamento e Análise'!F57 -> 0 | B56: ='Mapeamento e Análise'!C57 -> 0 | C56: ='Mapeamento e Análise'!B57 -> 0 | D56: ='Mapeamento e Análise'!E57 -> 0 | F56: ='Mapeamento e Análise'!X57
